BEGIN:VCALENDAR
VERSION:2.0
PRODID:-//Sana Musasama - ECPv6.15.13.1//NONSGML v1.0//EN
CALSCALE:GREGORIAN
METHOD:PUBLISH
X-WR-CALNAME:Sana Musasama
X-ORIGINAL-URL:https://sana-musasama.com
X-WR-CALDESC:Events for Sana Musasama
REFRESH-INTERVAL;VALUE=DURATION:PT1H
X-Robots-Tag:noindex
X-PUBLISHED-TTL:PT1H
BEGIN:VTIMEZONE
TZID:America/New_York
BEGIN:DAYLIGHT
TZOFFSETFROM:-0500
TZOFFSETTO:-0400
TZNAME:EDT
DTSTART:20120311T070000
END:DAYLIGHT
BEGIN:STANDARD
TZOFFSETFROM:-0400
TZOFFSETTO:-0500
TZNAME:EST
DTSTART:20121104T060000
END:STANDARD
BEGIN:DAYLIGHT
TZOFFSETFROM:-0500
TZOFFSETTO:-0400
TZNAME:EDT
DTSTART:20130310T070000
END:DAYLIGHT
BEGIN:STANDARD
TZOFFSETFROM:-0400
TZOFFSETTO:-0500
TZNAME:EST
DTSTART:20131103T060000
END:STANDARD
BEGIN:DAYLIGHT
TZOFFSETFROM:-0500
TZOFFSETTO:-0400
TZNAME:EDT
DTSTART:20140309T070000
END:DAYLIGHT
BEGIN:STANDARD
TZOFFSETFROM:-0400
TZOFFSETTO:-0500
TZNAME:EST
DTSTART:20141102T060000
END:STANDARD
BEGIN:DAYLIGHT
TZOFFSETFROM:-0500
TZOFFSETTO:-0400
TZNAME:EDT
DTSTART:20150308T070000
END:DAYLIGHT
BEGIN:STANDARD
TZOFFSETFROM:-0400
TZOFFSETTO:-0500
TZNAME:EST
DTSTART:20151101T060000
END:STANDARD
END:VTIMEZONE
BEGIN:VEVENT
DTSTART;TZID=America/New_York:20141102T100000
DTEND;TZID=America/New_York:20141201T180000
DTSTAMP:20260423T175016
CREATED:20141029T050019Z
LAST-MODIFIED:20141030T182921Z
UID:1297-1414922400-1417456800@sana-musasama.com
SUMMARY:6 x 6 Ceramic Tile Exhibition
DESCRIPTION:Opening Reception on Sunday November 2nd\, 2014\nfrom 3-6 pm \n6 x 6 Ceramic Tile Exhibition The Project Space at Julio Valdez Studio presents this opportunity concurrently with the 5th Ceramic Tile International Triennial (elit-tile)\, which will take place at Julio Valdez Studio\, LLC. Hunter College will be the Triennial’s guest school\, and its director and guest curator\, artist Jeffrey Mongrain\, will select the artists that will represent New York City. \nA group show of ceramic tile at JVS Project Space\, to be curated by artist and ceramicist\, Ezequiel Taveras\, will provide the opportunity for a show that will be unique for New York City and a first in the East Harlem contemporary art scene.
URL:https://sana-musasama.com/events/6x6tileexhibition
LOCATION:JVS Project Space\, 176 East 106th St\, 4th Flr\, New York\, NY\, 10029\, United States
CATEGORIES:Exhibition
END:VEVENT
BEGIN:VEVENT
DTSTART;TZID=America/New_York:20141026T100000
DTEND;TZID=America/New_York:20141114T190000
DTSTAMP:20260423T175016
CREATED:20141103T181521Z
LAST-MODIFIED:20141109T164806Z
UID:1313-1414317600-1415991600@sana-musasama.com
SUMMARY:Whispers And Echoes
DESCRIPTION:Curated by Angela Kim & Aisha Tandiwe Bell \nWhispers and Echoes ExhibitionOct 26-Nov 14  “The earth carries the memories built on the back of oppressed/unrepresented people and their buried bones throughout the world. At Ma Lai\, Vietnam\, I walk on the site of a massacre\, where the lives of hundreds of women and babies were taken in revenge. I touch the soil. At the Holocaust Museum\, I look at the hundreds of pairs of eyeglasses\, shoes gold-capped teeth\, and briefcases and I wonder who they belonged to. In Rwanda\, a young woman tells how she searched for her family at a mass burial site. I have worked in Cambodia for 8 years with young girls who were former sex slaves\, wondering who enslaved them and walked the killing fields\, with their fragments of what once were human beings. I have witnessed the burial of young girls who have suffered genital cutting.\n Will it every stop? These works are meant to slow us down\, make us look closely at our world\, silence us for the moment.” \nThe Unknown/Unnamed\, and The Unspeakable series address concerns with war\, displacement\, violence towards women\, poverty\, genocide and slavery. \nSana Musasama has traveled and exhibited extensively.Solo exhibitions include: Gallery 43\, Paris\, France; The Clay Art Center\, Port Chester\, New York; Dartmouth College\, Hanover\, New Hampshire; Nancy Dryfloss Gallery\, Union\, NJ; Meta House; Phnom Penh\, Cambodia; June Kelly Gallery\, NYC; Robert Hudges Gallery\, San Antonio\, TX; Swarthmore College\, PA; The Studio Museum in Harlem\, NYC \nResidencies include: Soaring Gardens\, PA; The Clay Art Center\, NY; Givat Haviva\, Israel; The Cite Des Arts\, France; Studio Exhibition Program at Dartmouth\, NH; The European Ceramic Center\, Holland; Wadastick Art Center\, Mexico; La Suerate Studio; Baltimore Clay Works; The Studio Museum in Harlem\, NY; Tuscarora International Institute \nVisitors will need to get a “guest pass” from the main entrance (next to the enormous black cube) at Hunter College on the corner of 68th St. and Lexington Ave. You may then use any entrance to reach the Thomas Hunter Project Space\, located in the basement of the Thomas Hunter Building. \nVisitation by appointment the weeks of October 26-November 14th also available. \n[wppa type=”slideonlyf” album=”14″ size=”auto” align=”center”][/wppa]
URL:https://sana-musasama.com/events/whispers-and-echoes
LOCATION:Hunter College\, Project Room\, 695 Park Avenue\, New York\, NY\, 10065\, United States
CATEGORIES:Exhibition
ORGANIZER;CN="Angela Kim - Aisha Tandiwe Bell":MAILTO:musasama@hotmail.com
END:VEVENT
BEGIN:VEVENT
DTSTART;TZID=America/New_York:20140922T100000
DTEND;TZID=America/New_York:20141101T180000
DTSTAMP:20260423T175016
CREATED:20140927T170204Z
LAST-MODIFIED:20140927T170938Z
UID:1264-1411380000-1414864800@sana-musasama.com
SUMMARY:My Journey/Fund Raiser
DESCRIPTION:Unspeakable Series and Crafts \n\n  \nSana Musasama’s Unspeakable series will be on display at Studio 550 through November 2014. Her passion for the girls saved from the sex trade in Cambodia has manifested in her return trips to Cambodia to teach the girls crafts for market sale. These crafts are available for sale via Studio 550. \nStudio 550 additionally will feature a fund-raiser for Ms. Musasama’s yearly trips to Cambodia.
URL:https://sana-musasama.com/events/my-journey
LOCATION:Studio 550\, 550 Elm Street\, Manchester\, NH\, 03101\, United States
CATEGORIES:Exhibition
ATTACH;FMTTYPE=image/jpeg:https://sana-musasama.com/wp-content/uploads/2014/01/SanaGirlsTomDyCenter2014-e1390106998227.jpg
ORGANIZER;CN="Monica Leap":MAILTO:info@550arts.com
END:VEVENT
BEGIN:VEVENT
DTSTART;TZID=America/New_York:20140710T100000
DTEND;TZID=America/New_York:20140801T200000
DTSTAMP:20260423T175016
CREATED:20140623T203222Z
LAST-MODIFIED:20141029T042506Z
UID:1214-1404986400-1406923200@sana-musasama.com
SUMMARY:40 and Counting: Celebrating Forty Years at the Gantt Center Through Art\, Culture and Community
DESCRIPTION:My “Unspeakable” series will be included in this event: \nHarvey B. Gantt Center-40th Anniversary Event \n  \n\n\n\n\n40 and Counting: Celebrating Forty Years at the Gantt Center Through Art\, Culture and Community \nCelebrate the Gantt Centers visual arts legacy with works and artifacts from exhibitions shown through the last 40 years. \nJohn and Vivian Hewitt Collection of African American Art\nOne of the nation’s most important and comprehensive collections of African American Art \nSelected Works of J. Eugene Grigsby\, Jr.: Returning to Where the Artistic Seed Was Planted\nExhibition in memoriam of acclaimed artist J. Eugene Grigsby\, Jr. PHD \nThursday\, July 10\, 2014 • 6:00 pm – 7:30 pm\nCome feel the funk\, with live music\, heavy hors d’oeuvres and open bar! \nCan you dig it? \n \nPlease RSVP by Thursday\, July 3\, 2014. Please use the password “Curry” to complate your RSVP. For questions\, please contact Kris Cole at (704) 547-3781.
URL:https://sana-musasama.com/events/40-and-counting-celebrating-forty-years-at-the-gantt-center-through-art-culture-and-community
LOCATION:The Harvey B. Gantt Center for African-American Arts + Culture\, at Levine Center for the Arts\, 551 South Tryon Street\, Charlotte\, NC\, 28202\, United States
CATEGORIES:Exhibition
END:VEVENT
BEGIN:VEVENT
DTSTART;TZID=America/New_York:20131107T090000
DTEND;TZID=America/New_York:20140116T170000
DTSTAMP:20260423T175016
CREATED:20131018T212201Z
LAST-MODIFIED:20131103T181516Z
UID:872-1383814800-1389891600@sana-musasama.com
SUMMARY:Conversations (ONe Woman)
DESCRIPTION:The work at Kean University\, is an overview of Sana Musasama’s ceramic sculpture career spanning a 35-year period.  She will be exhibiting 3 bodies of work\, the House Series\, 1978 – 1984\, produced prior to graduate school at Alfred University\, that speaks about the House as a universal symbol. \nHer other ongoing series will be included\, the UnSpeakable Series and the Unknown/UnNamed Series. The UnSpeakable Series\, addresses ritual and violence in the lives of women. The Unknown/UnNamed Series is a body of work addressing mass burials genocide\, war\, and the destruction of our planet. \nThe Nancy Dryfoos Gallery is located in the Kean University Library. Exhibitions by alumni\, facutly and visitingartists are featured each month. The Nancy Dryfoos Gallery fall and spring semester hours are Monday through Saturday from 9:00 AM to 5:00 PM and Sunday from 1:00 PM to 5:00 PM.
URL:https://sana-musasama.com/events/conversations-one-woman
LOCATION:Kean University\, Nancy Dryfoos Gallery\, 1000 Morris Avenue\, Union\, 07083\, United States
CATEGORIES:Exhibition
ATTACH;FMTTYPE=image/jpeg:https://sana-musasama.com/wp-content/uploads/2013/11/Sana_Conversations.jpg
END:VEVENT
BEGIN:VEVENT
DTSTART;TZID=America/New_York:20131106T090000
DTEND;TZID=America/New_York:20131208T190000
DTSTAMP:20260423T175016
CREATED:20131018T210316Z
LAST-MODIFIED:20131205T012629Z
UID:866-1383728400-1386529200@sana-musasama.com
SUMMARY:Reawakening: A Celebration in Clay of Nature and Renewal
DESCRIPTION:Artists:Peter A. Davis\, Bruce Dehnert\, Caroline Holder\, Kate Missett\, Sana Musasama\, Matt Nolen\, Michelle Quan\, Pamela Sunday\, Sheryl Zacharia \nCurator: Kate Missett\nExhibition: November 6 – November 29\, 2013\nOpening Reception: Wednesday\, November 6\, 2013 from 2 to 4 pm.  \nExtended to December 8th!!\n\nKingsborough Community College\, Ground Floor-Arts & Sciences Building \nThe work at Kingsborough Community College\, is an comprehensive overview of Sana Musasama’s ceramic sculpture career spanning a 25-year period. She will be exhibiting 3 bodies of work\, the House Series\, 1978 – 1984\, produced prior to graduate school at Alfred University\, that speaks about the House as a universal symbol. Her other ongoing series will be included\, The UnSpeakable Series and The Unknown/UnNamed Series. The UnSpeakable Series\, addresses ritual and violence in the lives of women. The Unknown/UnNamed Series is a body of work addressing mass burials genocide\, war\, and the destruction of our planet.
URL:https://sana-musasama.com/events/reawakening-a-celebration-in-clay-of-nature-and-renewal
LOCATION:Kingsborough Community College\, 2001 Oriental Boulevard\, Brooklyn\, NY \, 11235\, United States
CATEGORIES:Exhibition
END:VEVENT
BEGIN:VEVENT
DTSTART;TZID=America/New_York:20130924T080000
DTEND;TZID=America/New_York:20140302T170000
DTSTAMP:20260423T175016
CREATED:20131013T052220Z
LAST-MODIFIED:20131126T212749Z
UID:604-1380009600-1393779600@sana-musasama.com
SUMMARY:Body & Soul
DESCRIPTION:About the Exhibition\n\n\n\n\n\nIn recent years\, the human figure has returned to center stage in the work of artists around the world. Body & Soul: New International Ceramics underscores the power of the figure to convey strong emotions\, and also to the accessibility of the ceramic medium. Through clay the figure becomes the catalyst for addressing the emotional impact of contemporary pressures that confront our society today. Each work\, inspired by a personal incident or symbolic tale\, expresses a deep emotional identity\, contrasting societal\, political\, and personal views on themes such as anxiety\, bias\, mortality and memory. \nSana Musasama exhibits her sculptural ceramics\, the Unspeakable Series\, at the Museum of Arts and Design in New York until March 2\, 2014.
URL:https://sana-musasama.com/events/body-soul
LOCATION:The Museum of Arts and Design\, 2 Columbus Circle\, New York\, NY\, 10019\, United States
CATEGORIES:Exhibition
END:VEVENT
BEGIN:VEVENT
DTSTART;TZID=America/New_York:20130913T080000
DTEND;TZID=America/New_York:20131026T170000
DTSTAMP:20260423T175016
CREATED:20131013T055524Z
LAST-MODIFIED:20131101T001512Z
UID:612-1379059200-1382806800@sana-musasama.com
SUMMARY:Convergency
DESCRIPTION:September 13 – October 26\, 2013 \nOpening reception and free all-ages art-making workshop: September 12\, 6:30-8pm  \nA group exhibition of sculpture and installation by contemporary mid-career artists addressing narratives related to science and technology. Curator Jeffrey Mongrain is an artist and Head of MFA Sculpture at Hunter College in NYC. \nArtists included in the exhibition are: Dylan Beck\, Christie Brown\, Chad Curtis\, David East\, Linda Ganstrom\, Arthur Gonzalez\, Nicholas Kripal\, James Lawton\, Steven Montgomery\, Judy Moonelis\, Sana Musasama\, Matt Nolen\, Denise Pelletier\, Benji Schulman\, Virginia Scotchie\, Bobby Silverman\, Neil Tetkowski\, Adam Welch\, and Susan York.
URL:https://sana-musasama.com/events/convergency
LOCATION:Pelham Art Center\, 155 Fifth Avenue\, Pelham\, 10803\, United States
CATEGORIES:Exhibition
END:VEVENT
END:VCALENDAR