BEGIN:VCALENDAR
VERSION:2.0
PRODID:-//Sana Musasama - ECPv6.15.13.1//NONSGML v1.0//EN
CALSCALE:GREGORIAN
METHOD:PUBLISH
X-WR-CALNAME:Sana Musasama
X-ORIGINAL-URL:https://sana-musasama.com
X-WR-CALDESC:Events for Sana Musasama
REFRESH-INTERVAL;VALUE=DURATION:PT1H
X-Robots-Tag:noindex
X-PUBLISHED-TTL:PT1H
BEGIN:VTIMEZONE
TZID:America/New_York
BEGIN:DAYLIGHT
TZOFFSETFROM:-0500
TZOFFSETTO:-0400
TZNAME:EDT
DTSTART:20140309T070000
END:DAYLIGHT
BEGIN:STANDARD
TZOFFSETFROM:-0400
TZOFFSETTO:-0500
TZNAME:EST
DTSTART:20141102T060000
END:STANDARD
BEGIN:DAYLIGHT
TZOFFSETFROM:-0500
TZOFFSETTO:-0400
TZNAME:EDT
DTSTART:20150308T070000
END:DAYLIGHT
BEGIN:STANDARD
TZOFFSETFROM:-0400
TZOFFSETTO:-0500
TZNAME:EST
DTSTART:20151101T060000
END:STANDARD
BEGIN:DAYLIGHT
TZOFFSETFROM:-0500
TZOFFSETTO:-0400
TZNAME:EDT
DTSTART:20160313T070000
END:DAYLIGHT
BEGIN:STANDARD
TZOFFSETFROM:-0400
TZOFFSETTO:-0500
TZNAME:EST
DTSTART:20161106T060000
END:STANDARD
BEGIN:DAYLIGHT
TZOFFSETFROM:-0500
TZOFFSETTO:-0400
TZNAME:EDT
DTSTART:20170312T070000
END:DAYLIGHT
BEGIN:STANDARD
TZOFFSETFROM:-0400
TZOFFSETTO:-0500
TZNAME:EST
DTSTART:20171105T060000
END:STANDARD
BEGIN:DAYLIGHT
TZOFFSETFROM:-0500
TZOFFSETTO:-0400
TZNAME:EDT
DTSTART:20180311T070000
END:DAYLIGHT
BEGIN:STANDARD
TZOFFSETFROM:-0400
TZOFFSETTO:-0500
TZNAME:EST
DTSTART:20181104T060000
END:STANDARD
BEGIN:DAYLIGHT
TZOFFSETFROM:-0500
TZOFFSETTO:-0400
TZNAME:EDT
DTSTART:20190310T070000
END:DAYLIGHT
BEGIN:STANDARD
TZOFFSETFROM:-0400
TZOFFSETTO:-0500
TZNAME:EST
DTSTART:20191103T060000
END:STANDARD
BEGIN:DAYLIGHT
TZOFFSETFROM:-0500
TZOFFSETTO:-0400
TZNAME:EDT
DTSTART:20200308T070000
END:DAYLIGHT
BEGIN:STANDARD
TZOFFSETFROM:-0400
TZOFFSETTO:-0500
TZNAME:EST
DTSTART:20201101T060000
END:STANDARD
BEGIN:DAYLIGHT
TZOFFSETFROM:-0500
TZOFFSETTO:-0400
TZNAME:EDT
DTSTART:20210314T070000
END:DAYLIGHT
BEGIN:STANDARD
TZOFFSETFROM:-0400
TZOFFSETTO:-0500
TZNAME:EST
DTSTART:20211107T060000
END:STANDARD
END:VTIMEZONE
BEGIN:VTIMEZONE
TZID:America/Chicago
BEGIN:DAYLIGHT
TZOFFSETFROM:-0600
TZOFFSETTO:-0500
TZNAME:CDT
DTSTART:20150308T080000
END:DAYLIGHT
BEGIN:STANDARD
TZOFFSETFROM:-0500
TZOFFSETTO:-0600
TZNAME:CST
DTSTART:20151101T070000
END:STANDARD
BEGIN:DAYLIGHT
TZOFFSETFROM:-0600
TZOFFSETTO:-0500
TZNAME:CDT
DTSTART:20160313T080000
END:DAYLIGHT
BEGIN:STANDARD
TZOFFSETFROM:-0500
TZOFFSETTO:-0600
TZNAME:CST
DTSTART:20161106T070000
END:STANDARD
BEGIN:DAYLIGHT
TZOFFSETFROM:-0600
TZOFFSETTO:-0500
TZNAME:CDT
DTSTART:20170312T080000
END:DAYLIGHT
BEGIN:STANDARD
TZOFFSETFROM:-0500
TZOFFSETTO:-0600
TZNAME:CST
DTSTART:20171105T070000
END:STANDARD
END:VTIMEZONE
BEGIN:VEVENT
DTSTART;TZID=America/New_York:20200627T130000
DTEND;TZID=America/New_York:20200627T140000
DTSTAMP:20260423T191726
CREATED:20200629T184036Z
LAST-MODIFIED:20200629T184312Z
UID:1929-1593262800-1593266400@sana-musasama.com
SUMMARY:Walking Through the World\, With My Heart in My Hands
DESCRIPTION:Clay Art Center
URL:https://sana-musasama.com/events/walking-through-the-world-with-my-heart-in-my-hands
LOCATION:Clay Art Center\, 40 Beech Street\, Port Chester\, NY\, United States
CATEGORIES:Panel Discussion
END:VEVENT
BEGIN:VEVENT
DTSTART;TZID=America/New_York:20180409T080000
DTEND;TZID=America/New_York:20180602T170000
DTSTAMP:20260423T191726
CREATED:20180522T040953Z
LAST-MODIFIED:20180522T040953Z
UID:1569-1523260800-1527958800@sana-musasama.com
SUMMARY:Invisible Borders
DESCRIPTION:Dates: April 9th – June 2nd\, 2018\nReception Night: April 20th\, 5 – 8 p.m.\nArtists: Stuart Asprey\, Rafael Corzo\, Ana Maria Economou\, Yoshi Fujii\, Misty Gamble\, Sarah House\, Woo-Jong Koh\, Trisha Kyner\, Simphiwe Mbunyuza\, Sana Musasama\, Edurne Otaduy\, Zemer Peled\, Shoji Satake\, Cynthia Siegel\, Anthony Stellaccio and Leandra Urrutia \n“Invisible Borders is an ode to clay and internationalism. Every artist you meet in this exhibition is a traveler. Some of the artwork reflects directly on the experience of travel and cultural exchange\, while others testify to the international nature of our craft.”\n– Trisha Kyner\, curator
URL:https://sana-musasama.com/events/invisible-borders
LOCATION:Community College of Baltimore County\, 7201 Rossville Blvd\, Rosedale\, MD\, 21237\, United States
CATEGORIES:Exhibition,Panel Discussion
END:VEVENT
BEGIN:VEVENT
DTSTART;TZID=America/New_York:20180314T100000
DTEND;TZID=America/New_York:20180818T180000
DTSTAMP:20260423T191726
CREATED:20180522T044030Z
LAST-MODIFIED:20180522T044030Z
UID:1574-1521021600-1534615200@sana-musasama.com
SUMMARY:Visual Voices: Truth Narratives
DESCRIPTION:Visual Voices: Truth Narratives is a NCECA ANNUAL EXHIBITION. Guest curator Winnie Owens-Hart has invited artists Syd Carpenter\, Roberto Lugo\, Sana Musasama\, Reginald Pointer\, and Janathel Shaw to frame the curatorial concerns of Visual Voices: Truth Narratives. 37 selected ceramic artists create powerful works that speak in a variety of visual volumes that touch on personal and global issues and emotions. Their narratives\, whether literal or abstract\, acknowledge that intolerance spawn racial\, religious\, class\, and gender biases in every part of the world. The sense of interconnectedness created by modern media has transformed what was once an ancestral community to now a global community. \nOur stories\, re-told in clay\, are borderless. Historically\, the narrative ceramic object has engaged with the retelling of events through visual imagery codification. Clay works dating back thousands of years have enabled archaeologists to theorize on ceremonial\, spiritual\, and utilitarian societal markers that document the social and cultural contexts of their makers’ communities. Makers have continued the creation of narrative works using clay. Contemporary narrative ceramic artists\, compared to their historical counterparts\, are visually bombarded through media systems. Some work is created based solely on the artist’s personal experiences while others are influenced by what they see through the media; many today are shaped by both. \nThe exhibition reception will be held on Thursday\, March 15\, 6 – 9 PM. \nExhibiting Artist includes:\nJesse Albrecht\, Crista Ames\, Natalia Arbelaez\, Sharif Bey\, Jill Birschbach\, David Bogus\, Abigale Brading\, Angelique Brickner\, Nora Brodnicki\, Jim Budde\, Syd Carpenter\, Bryan & Brad Caviness\, Sean Clute\, Tara Daly\, Matthew Dercole\, Yewen Dong\, Elhan Ergin\, Richard Freiwald\, Dennis Gerwin\, Ronnie Gould\, Jocelyn Howard\, Hsin-Yi Huang\, Stacey Johnson\, Marsha Karagheusian\, Ahrong Kim\, Rob Kolhouse\, Bethany Krull\, Roberto Lugo\, Patricia Maloney\, Sana Musasama\, Kelly & Kyle Phelps\, Reginald Pointer\, Kristine Poole\, Janathel Shaw\, Lydia Thompson. \n  \n\n\nVisual Voices: Truth Narratives is sponsored by National Council on Education for the Ceramic Arts (NCECA). Media sponsored by 90.5 WESA and 91.3 WYEP. (As of November 2017) \nNCECA promotes and improves the ceramic arts through education\, community-building\, research and creative inspiration. NCECA offers programs\, events and publications to support its membership of artists\, students\, individual and corporate patrons\, gallery owners\, museum curators and providers of ceramic arts-related products and services. As a dynamic\, member-driven organization\, NCECA is flexible in its program development\, international in its perspective and responsive to the changing needs of its constituency. \n\nIMAGE: David Bogus. Punk Necklace Series: Treat the Youth Right and Red\, White\, Brainwashed\, 2017. Ceramic and plastic chain. 11″ x 6.5″ x 2.5″ each. Photo courtesy of David Bogus.
URL:https://sana-musasama.com/events/visual-voices-truth-narratives
LOCATION:Society for Contemporary Craft\, 2100 Smallman St\, Pittsburgh\, PA\, 15222\, United States
CATEGORIES:Exhibition,Panel Discussion
END:VEVENT
BEGIN:VEVENT
DTSTART;TZID=America/Chicago:20160316T100000
DTEND;TZID=America/Chicago:20160513T170000
DTSTAMP:20260423T191726
CREATED:20160315T032354Z
LAST-MODIFIED:20160315T032605Z
UID:1457-1458122400-1463158800@sana-musasama.com
SUMMARY:50 Women-A Celebration of Women's Contribution to Ceramics
DESCRIPTION:50 Women: A Celebration of Women’s Contribution to Ceramics \n      \nOpens concurrently with 50th Anniversary Conference for National Council on Education for the Ceramic Arts \n          \nKANSAS CITY\, Mo. – The upcoming exhibition – 50 Women: A Celebration of Women’s Contribution to Ceramics – is a landmark exhibit featuring all women ceramic artists\, including local\, national and international figures. \nThe exhibition will be held at The Changing Gallery at the American Jazz Museum\, 1616 E. 18th St. from March 16 to May 13. The Exhibition Opening Reception will be held from 6 to 9 p.m. on Thursday\, March 17 at the Jazz Museum. \nThe event\, sponsored by the University of Missouri-Kansas City Women’s Center and the American Jazz Museum\, will open concurrently with the 50th Anniversary Conference for National Council on Education for the Ceramic Arts (NCECA). \n“The significance of this exhibit is immeasurable. We wanted to organize an exhibit for only women to give them a space where their unique achievements in the ceramic arts can be showcased and celebrated\,” said Arzie Umali\, assistant director\, UMKC Women’s Center. “UMKC is a co-sponsor of this historic ceramics celebration\, which opens in conjunction with the 50th Anniversary Conference of NCECA. We’re featuring 50 women because this is the 50th Anniversary conference. Never before in the conference’s history has an exhibit of this scale\, featuring only women\, been presented.” \nCheptoo Kositany-Buckner\, the new executive director of the Jazz Museum\, shared her delight in hosting the exhibit. \n“The American Jazz Museum is proud to be partnering with the UMKC Women’s Center\, and we’re excited to have the 50 Women exhibit in our Changing Gallery\,” said Kositany-Buckner.
URL:https://sana-musasama.com/events/50-women-a-celebration-of-womens-contribution-to-ceramics
LOCATION:American Jazz Museum\, 1616 E. 18th Street\, Kansas City \, MO\, 64108\, United States
CATEGORIES:Exhibition,Panel Discussion,Performance
ORGANIZER;CN="50 Women":MAILTO:info.50women@gmail.com
END:VEVENT
BEGIN:VEVENT
DTSTART;TZID=America/New_York:20150303T173000
DTEND;TZID=America/New_York:20150303T193000
DTSTAMP:20260423T191726
CREATED:20150225T211524Z
LAST-MODIFIED:20150225T211524Z
UID:1362-1425403800-1425411000@sana-musasama.com
SUMMARY:Of Human Bondage-Panel Discussion
DESCRIPTION:Panel Discussion on Human Trafficking \nImage by Steven Cavallo\, 2011 \nTo discuss human trafficking in sync with exhibit Of Human Bondage at the Anya and Andrew Shiva gallery. \n  \nModerator: Dr. Thalia Vrachopoulos \nGuest Speakers: George Andreopoulos\, Steven Cavallo\, Aiyoung Choi\, Lori Cohen\, Kate D’Adamo\, Sana Musasama\, Chitra Raghavan \n  \nEvent is free and open to the public
URL:https://sana-musasama.com/events/of-human-bondage-panel-discussion
LOCATION:Anya and Andrew Shiva Gallery\, 860 West 11TH Avenue\, New York\, NY\, 10019\, United States
CATEGORIES:Panel Discussion
END:VEVENT
END:VCALENDAR