BEGIN:VCALENDAR
VERSION:2.0
PRODID:-//Sana Musasama - ECPv6.15.13.1//NONSGML v1.0//EN
CALSCALE:GREGORIAN
METHOD:PUBLISH
X-WR-CALNAME:Sana Musasama
X-ORIGINAL-URL:https://sana-musasama.com
X-WR-CALDESC:Events for Sana Musasama
REFRESH-INTERVAL;VALUE=DURATION:PT1H
X-Robots-Tag:noindex
X-PUBLISHED-TTL:PT1H
BEGIN:VTIMEZONE
TZID:America/New_York
BEGIN:DAYLIGHT
TZOFFSETFROM:-0500
TZOFFSETTO:-0400
TZNAME:EDT
DTSTART:20250309T070000
END:DAYLIGHT
BEGIN:STANDARD
TZOFFSETFROM:-0400
TZOFFSETTO:-0500
TZNAME:EST
DTSTART:20251102T060000
END:STANDARD
BEGIN:DAYLIGHT
TZOFFSETFROM:-0500
TZOFFSETTO:-0400
TZNAME:EDT
DTSTART:20260308T070000
END:DAYLIGHT
BEGIN:STANDARD
TZOFFSETFROM:-0400
TZOFFSETTO:-0500
TZNAME:EST
DTSTART:20261101T060000
END:STANDARD
BEGIN:DAYLIGHT
TZOFFSETFROM:-0500
TZOFFSETTO:-0400
TZNAME:EDT
DTSTART:20270314T070000
END:DAYLIGHT
BEGIN:STANDARD
TZOFFSETFROM:-0400
TZOFFSETTO:-0500
TZNAME:EST
DTSTART:20271107T060000
END:STANDARD
BEGIN:DAYLIGHT
TZOFFSETFROM:-0500
TZOFFSETTO:-0400
TZNAME:EDT
DTSTART:20280312T070000
END:DAYLIGHT
BEGIN:STANDARD
TZOFFSETFROM:-0400
TZOFFSETTO:-0500
TZNAME:EST
DTSTART:20281105T060000
END:STANDARD
END:VTIMEZONE
BEGIN:VEVENT
DTSTART;TZID=America/New_York:20260114T080000
DTEND;TZID=America/New_York:20260329T170000
DTSTAMP:20260423T162117
CREATED:20260102T191255Z
LAST-MODIFIED:20260102T191255Z
UID:23426-1768377600-1774803600@sana-musasama.com
SUMMARY:Re-Union: Syd Carpenter\, Martha Jackson Jarvis\, Judy Moonelis\, Sana Musasama\, and Winnie Owens Hart
DESCRIPTION:“Re-Union” brings together the works of Syd Carpenter\, Winnie Owens Hart\, Martha Jackson Jarvis\, Judy Moonelis\, and Sana Musasama. Each of these artists played a significant role in shaping American art–and the field of ceramics–during the late 20th and early 21st centuries. Syd Carpenter’s large-scale clay and metal works investigate the complex history of African Americans and farming\, from slavery to the present day. Winnie Owens Hart’s pioneering use of traditional African ceramic techniques and forms engage with contemporary issues concerning race\, identity\, and gender. Martha Jackson Jarvis’s monumental mixed media pieces explore African American and Native American spirituality\, ecological concerns\, and histories. Judy Moonelis’s intricate multimedia installations probe the intersections of art and science\, drawing inspiration from neuroscience and anatomy and relating the human body to a variety of architectural contexts. Sana Musasama’s constructions of glass\, organic materials\, and clay are rooted in her global activist and educational endeavors in women’s/human rights. 
URL:https://sana-musasama.com/events/re-union-syd-carpenter-martha-jackson-jarvis-judy-moonelis-sana-musasama-and-winnie-owens-hart
LOCATION:Frances M. Maguire Art Museum\, 50 Lapsley Lane\, Merion\, PA\, 19066\, United States
END:VEVENT
BEGIN:VEVENT
DTSTART;TZID=America/New_York:20260701T100000
DTEND;TZID=America/New_York:20270701T170000
DTSTAMP:20260423T162117
CREATED:20260102T191744Z
LAST-MODIFIED:20260102T191744Z
UID:23430-1782900000-1814461200@sana-musasama.com
SUMMARY:Clay Has Memory: Generational Knowledge from Africa
DESCRIPTION:Organized by Assistant Curator of African Art\, Perrin Lathrop\, the exhibit “Clay Has Memory” will be on view in the new PUAM’s first floor welcome gallery from July 2026-July 2027. It will trouble the boundaries between art and craft\, centering the contributions of Black artists\, especially Black women\, and inviting inquiry into the hierarchies that have historically relegated their creative labor to the realm of the anonymous and the undervalued. This grant will provide support for the exhibition as well as interdisciplinary opportunities and hands-on\, pedagogy-driven workshops for faculty across arts and sciences. 
URL:https://sana-musasama.com/events/clay-has-memory-generational-knowledge-from-africa
LOCATION:Princeton University Art Museum\, 63 College Rd W\, Princeton\, NJ\, 08540\, United States
END:VEVENT
END:VCALENDAR