BEGIN:VCALENDAR
VERSION:2.0
PRODID:-//Sana Musasama - ECPv6.15.13.1//NONSGML v1.0//EN
CALSCALE:GREGORIAN
METHOD:PUBLISH
X-WR-CALNAME:Sana Musasama
X-ORIGINAL-URL:https://sana-musasama.com
X-WR-CALDESC:Events for Sana Musasama
REFRESH-INTERVAL;VALUE=DURATION:PT1H
X-Robots-Tag:noindex
X-PUBLISHED-TTL:PT1H
BEGIN:VTIMEZONE
TZID:America/New_York
BEGIN:DAYLIGHT
TZOFFSETFROM:-0500
TZOFFSETTO:-0400
TZNAME:EDT
DTSTART:20120311T070000
END:DAYLIGHT
BEGIN:STANDARD
TZOFFSETFROM:-0400
TZOFFSETTO:-0500
TZNAME:EST
DTSTART:20121104T060000
END:STANDARD
BEGIN:DAYLIGHT
TZOFFSETFROM:-0500
TZOFFSETTO:-0400
TZNAME:EDT
DTSTART:20130310T070000
END:DAYLIGHT
BEGIN:STANDARD
TZOFFSETFROM:-0400
TZOFFSETTO:-0500
TZNAME:EST
DTSTART:20131103T060000
END:STANDARD
BEGIN:DAYLIGHT
TZOFFSETFROM:-0500
TZOFFSETTO:-0400
TZNAME:EDT
DTSTART:20140309T070000
END:DAYLIGHT
BEGIN:STANDARD
TZOFFSETFROM:-0400
TZOFFSETTO:-0500
TZNAME:EST
DTSTART:20141102T060000
END:STANDARD
END:VTIMEZONE
BEGIN:VEVENT
DTSTART;TZID=America/New_York:20130913T080000
DTEND;TZID=America/New_York:20131026T170000
DTSTAMP:20260424T052616
CREATED:20131013T055524Z
LAST-MODIFIED:20131101T001512Z
UID:612-1379059200-1382806800@sana-musasama.com
SUMMARY:Convergency
DESCRIPTION:September 13 – October 26\, 2013 \nOpening reception and free all-ages art-making workshop: September 12\, 6:30-8pm  \nA group exhibition of sculpture and installation by contemporary mid-career artists addressing narratives related to science and technology. Curator Jeffrey Mongrain is an artist and Head of MFA Sculpture at Hunter College in NYC. \nArtists included in the exhibition are: Dylan Beck\, Christie Brown\, Chad Curtis\, David East\, Linda Ganstrom\, Arthur Gonzalez\, Nicholas Kripal\, James Lawton\, Steven Montgomery\, Judy Moonelis\, Sana Musasama\, Matt Nolen\, Denise Pelletier\, Benji Schulman\, Virginia Scotchie\, Bobby Silverman\, Neil Tetkowski\, Adam Welch\, and Susan York.
URL:https://sana-musasama.com/events/convergency
LOCATION:Pelham Art Center\, 155 Fifth Avenue\, Pelham\, 10803\, United States
CATEGORIES:Exhibition
END:VEVENT
END:VCALENDAR