BEGIN:VCALENDAR
VERSION:2.0
PRODID:-//Sana Musasama - ECPv6.15.13.1//NONSGML v1.0//EN
CALSCALE:GREGORIAN
METHOD:PUBLISH
X-WR-CALNAME:Sana Musasama
X-ORIGINAL-URL:https://sana-musasama.com
X-WR-CALDESC:Events for Sana Musasama
REFRESH-INTERVAL;VALUE=DURATION:PT1H
X-Robots-Tag:noindex
X-PUBLISHED-TTL:PT1H
BEGIN:VTIMEZONE
TZID:America/New_York
BEGIN:DAYLIGHT
TZOFFSETFROM:-0500
TZOFFSETTO:-0400
TZNAME:EDT
DTSTART:20220313T070000
END:DAYLIGHT
BEGIN:STANDARD
TZOFFSETFROM:-0400
TZOFFSETTO:-0500
TZNAME:EST
DTSTART:20221106T060000
END:STANDARD
BEGIN:DAYLIGHT
TZOFFSETFROM:-0500
TZOFFSETTO:-0400
TZNAME:EDT
DTSTART:20230312T070000
END:DAYLIGHT
BEGIN:STANDARD
TZOFFSETFROM:-0400
TZOFFSETTO:-0500
TZNAME:EST
DTSTART:20231105T060000
END:STANDARD
BEGIN:DAYLIGHT
TZOFFSETFROM:-0500
TZOFFSETTO:-0400
TZNAME:EDT
DTSTART:20240310T070000
END:DAYLIGHT
BEGIN:STANDARD
TZOFFSETFROM:-0400
TZOFFSETTO:-0500
TZNAME:EST
DTSTART:20241103T060000
END:STANDARD
END:VTIMEZONE
BEGIN:VEVENT
DTSTART;VALUE=DATE:20230908
DTEND;VALUE=DATE:20231015
DTSTAMP:20260425T084841
CREATED:20230920T144452Z
LAST-MODIFIED:20230920T144553Z
UID:23286-1694131200-1697327999@sana-musasama.com
SUMMARY:(MOSTLY) WOMEN (MOSTLY) ABSTRACT PT. II
DESCRIPTION:Eric Firestone Gallery is pleased to announce the second iteration of (Mostly) Women (Mostly) Abstract\, a sweeping two-part exhibition across its East Hampton and New York City locations with a cross-generational group of artists. The exhibition focuses on abstraction and represents aesthetic conversations over time between contemporary artists and represented gallery artists and estates. \n(Mostly) Women (Mostly) Abstract shows how content is embedded in abstraction. The work on view reflects multiculturalism\, daily life\, and domesticity\, and employs references to sound\, language\, and place. The exhibition showcases artists who haven’t always operated in the center of the art world\, but who charted a deeply personal path\, and utilized experimental techniques\, materials\, and processes.  \nIn broad terms\, the exhibition considers the condition of “otherness” as manifest in abstraction\, in terms of ethnicity\, race\, gender\, and sexual orientation. The exhibition reflects Eric Firestone Gallery’s central mission: to examine the ever-expanding canon of Post-War painting and sculpture in New York. 
URL:https://sana-musasama.com/events/mostly-women-mostly-abstract-pt-ii
LOCATION:Eric Firestone Gallery\, 40 Great Jones Street\, New York\, NY\, 10012\, United States
END:VEVENT
END:VCALENDAR